BEGIN:VCALENDAR
VERSION:2.0
PRODID:-//HISTORIC COMPETITION MOTORCYCLE CLUB OF W.A. - ECPv6.3.6//NONSGML v1.0//EN
CALSCALE:GREGORIAN
METHOD:PUBLISH
X-ORIGINAL-URL:https://www.historicracing.asn.au
X-WR-CALDESC:Events for HISTORIC COMPETITION MOTORCYCLE CLUB OF W.A.
REFRESH-INTERVAL;VALUE=DURATION:PT1H
X-Robots-Tag:noindex
X-PUBLISHED-TTL:PT1H
BEGIN:VTIMEZONE
TZID:Australia/Perth
BEGIN:STANDARD
TZOFFSETFROM:+0800
TZOFFSETTO:+0800
TZNAME:AWST
DTSTART:20260101T000000
END:STANDARD
END:VTIMEZONE
BEGIN:VEVENT
DTSTART;TZID=Australia/Perth:20260614T060000
DTEND;TZID=Australia/Perth:20260614T170000
DTSTAMP:20260421T200649
CREATED:20251112T034829Z
LAST-MODIFIED:20260311T052228Z
UID:6324-1781416800-1781456400@www.historicracing.asn.au
SUMMARY:Round 3 Historic Club Championship 2026
DESCRIPTION:Round 3 Historic Club Championship – 14th June 2026\nCARCO.com.au Raceway\n440 Wattle Ave E\, Neerabup \nENTRIES VIA RIDERNET – TBA \nSPECTATOR INFORMATION \nMain Gate Admission Fee\nFREE ENTRY! \nCatering located in Pit Paddock
URL:https://www.historicracing.asn.au/event/round-3-historic-club-championship-2026/
LOCATION:CARCO.com.au Raceway\, 440 Wattle Ave E\, Neerabup\, Western Australia\, 6031\, Australia
END:VEVENT
END:VCALENDAR