BEGIN:VCALENDAR
VERSION:2.0
PRODID:-//HISTORIC COMPETITION MOTORCYCLE CLUB OF W.A. - ECPv6.3.6//NONSGML v1.0//EN
CALSCALE:GREGORIAN
METHOD:PUBLISH
X-WR-CALNAME:HISTORIC COMPETITION MOTORCYCLE CLUB OF W.A.
X-ORIGINAL-URL:https://www.historicracing.asn.au
X-WR-CALDESC:Events for HISTORIC COMPETITION MOTORCYCLE CLUB OF W.A.
REFRESH-INTERVAL;VALUE=DURATION:PT1H
X-Robots-Tag:noindex
X-PUBLISHED-TTL:PT1H
BEGIN:VTIMEZONE
TZID:Australia/Perth
BEGIN:STANDARD
TZOFFSETFROM:+0800
TZOFFSETTO:+0800
TZNAME:AWST
DTSTART:20260101T000000
END:STANDARD
END:VTIMEZONE
BEGIN:VEVENT
DTSTART;TZID=Australia/Perth:20260925T080000
DTEND;TZID=Australia/Perth:20260928T170000
DTSTAMP:20260422T012316
CREATED:20251112T035640Z
LAST-MODIFIED:20260311T052304Z
UID:6340-1790323200-1790614800@www.historicracing.asn.au
SUMMARY:2026 AUSTRALIAN HISTORIC ROAD RACING CHAMPIONSHIP
DESCRIPTION:Details: \n\nFriday – Tuning/Practice\nSaturday – Qualifying and Evening Meet and Greet Function\nSunday – Racing\nMonday – Racing and Presentations
URL:https://www.historicracing.asn.au/event/2026-australian-historic-road-racing-championship/
LOCATION:Collie Motorplex\, 643 Powerhouse Rd\, Collie Burn\, Western Australia\, 6225\, Australia
ATTACH;FMTTYPE=image/jpeg:https://www.historicracing.asn.au/wp-content/uploads/2026/03/2026-AHRRC.jpg
END:VEVENT
END:VCALENDAR